BEGIN:VCALENDAR
VERSION:2.0
PRODID:-//Pop It Play - ECPv6.15.20//NONSGML v1.0//EN
CALSCALE:GREGORIAN
METHOD:PUBLISH
X-WR-CALNAME:Pop It Play
X-ORIGINAL-URL:https://pop-it-play.co.uk
X-WR-CALDESC:Events for Pop It Play
REFRESH-INTERVAL;VALUE=DURATION:PT1H
X-Robots-Tag:noindex
X-PUBLISHED-TTL:PT1H
BEGIN:VTIMEZONE
TZID:Europe/London
BEGIN:DAYLIGHT
TZOFFSETFROM:+0000
TZOFFSETTO:+0100
TZNAME:BST
DTSTART:20250330T010000
END:DAYLIGHT
BEGIN:STANDARD
TZOFFSETFROM:+0100
TZOFFSETTO:+0000
TZNAME:GMT
DTSTART:20251026T010000
END:STANDARD
BEGIN:DAYLIGHT
TZOFFSETFROM:+0000
TZOFFSETTO:+0100
TZNAME:BST
DTSTART:20260329T010000
END:DAYLIGHT
BEGIN:STANDARD
TZOFFSETFROM:+0100
TZOFFSETTO:+0000
TZNAME:GMT
DTSTART:20261025T010000
END:STANDARD
BEGIN:DAYLIGHT
TZOFFSETFROM:+0000
TZOFFSETTO:+0100
TZNAME:BST
DTSTART:20270328T010000
END:DAYLIGHT
BEGIN:STANDARD
TZOFFSETFROM:+0100
TZOFFSETTO:+0000
TZNAME:GMT
DTSTART:20271031T010000
END:STANDARD
END:VTIMEZONE
BEGIN:VEVENT
DTSTART;TZID=Europe/London:20260724T160000
DTEND;TZID=Europe/London:20260724T180000
DTSTAMP:20260422T230952
CREATED:20260422T093546Z
LAST-MODIFIED:20260422T093546Z
UID:4120-1784908800-1784916000@pop-it-play.co.uk
SUMMARY:24th July 2026 -Two Moors Primary School Reception Meet-Up for September 2026 Starters 4:00-6:00
DESCRIPTION:
URL:https://pop-it-play.co.uk/event/24th-july-2026-two-moors-primary-school-reception-meet-up-for-september-2026-starters-400-600/
LOCATION:Pop It Play\, 31 Fore Street\, Cullompton\, Devon\, EX15 1JS\, United Kingdom
ORGANIZER;CN="Pop It Play":MAILTO:bookings@pop-it-play.co.uk
END:VEVENT
BEGIN:VEVENT
DTSTART;TZID=Europe/London:20260725T103000
DTEND;TZID=Europe/London:20260725T123000
DTSTAMP:20260422T230952
CREATED:20260416T203004Z
LAST-MODIFIED:20260417T091318Z
UID:4024-1784975400-1784982600@pop-it-play.co.uk
SUMMARY:25th July  Willand Primary School Reception Meet-Up – September 2026 starters 10:30-12:30
DESCRIPTION:
URL:https://pop-it-play.co.uk/event/25th-july-willand-primary-school-reception-meet-up-september-2026-starters-1030-1230/
LOCATION:Pop It Play\, 31 Fore Street\, Cullompton\, Devon\, EX15 1JS\, United Kingdom
ORGANIZER;CN="Pop It Play":MAILTO:bookings@pop-it-play.co.uk
END:VEVENT
BEGIN:VEVENT
DTSTART;TZID=Europe/London:20260725T133000
DTEND;TZID=Europe/London:20260725T153000
DTSTAMP:20260422T230952
CREATED:20260417T113103Z
LAST-MODIFIED:20260417T120437Z
UID:4058-1784986200-1784993400@pop-it-play.co.uk
SUMMARY:25th July 2026 – Culmstock Primary School Reception Meet-Up for September 2026 Starters 13.30-15.30
DESCRIPTION:
URL:https://pop-it-play.co.uk/event/25th-july-2026-culmstock-primary-school-reception-meet-up-for-september-2026-starters-13-30-15-30/
LOCATION:Pop It Play\, 31 Fore Street\, Cullompton\, Devon\, EX15 1JS\, United Kingdom
ORGANIZER;CN="Pop It Play":MAILTO:bookings@pop-it-play.co.uk
END:VEVENT
BEGIN:VEVENT
DTSTART;TZID=Europe/London:20260726T103000
DTEND;TZID=Europe/London:20260726T123000
DTSTAMP:20260422T230952
CREATED:20260416T121347Z
LAST-MODIFIED:20260417T092425Z
UID:4014-1785061800-1785069000@pop-it-play.co.uk
SUMMARY:26 July 2026 St Andrews Reception Meet-Up for September 2026 Starters  10:30am–12:30pm
DESCRIPTION:
URL:https://pop-it-play.co.uk/event/26-july-2026-st-andrews-reception-meet-up-for-september-2026-starters-1030am-1230pm/
LOCATION:Pop It Play\, 31 Fore Street\, Cullompton\, Devon\, EX15 1JS\, United Kingdom
ORGANIZER;CN="Pop It Play":MAILTO:bookings@pop-it-play.co.uk
END:VEVENT
BEGIN:VEVENT
DTSTART;TZID=Europe/London:20260727T160000
DTEND;TZID=Europe/London:20260727T180000
DTSTAMP:20260422T230952
CREATED:20260422T095008Z
LAST-MODIFIED:20260422T095008Z
UID:4123-1785168000-1785175200@pop-it-play.co.uk
SUMMARY:27th July 2026 -Halberton Primary School Reception Meet-Up for September 2026 Starters 4:00-6:00
DESCRIPTION:
URL:https://pop-it-play.co.uk/event/27th-july-2026-halberton-primary-school-reception-meet-up-for-september-2026-starters-400-600/
LOCATION:Pop It Play\, 31 Fore Street\, Cullompton\, Devon\, EX15 1JS\, United Kingdom
ORGANIZER;CN="Pop It Play":MAILTO:bookings@pop-it-play.co.uk
END:VEVENT
BEGIN:VEVENT
DTSTART;TZID=Europe/London:20260728T160000
DTEND;TZID=Europe/London:20260728T180000
DTSTAMP:20260422T230952
CREATED:20260422T135236Z
LAST-MODIFIED:20260422T135553Z
UID:4126-1785254400-1785261600@pop-it-play.co.uk
SUMMARY:28th July 2026 -Kentisbeare C Of E Primary School Reception Meet-Up for September 2026 Starters 4:00-6:00
DESCRIPTION:
URL:https://pop-it-play.co.uk/event/28th-july-2026-kentisbeare-c-of-e-primary-school-reception-meet-up-for-september-2026-starters-400-600/
LOCATION:Devon
ORGANIZER;CN="Pop It Play":MAILTO:bookings@pop-it-play.co.uk
END:VEVENT
BEGIN:VEVENT
DTSTART;TZID=Europe/London:20260729T160000
DTEND;TZID=Europe/London:20260729T180000
DTSTAMP:20260422T230952
CREATED:20260422T140948Z
LAST-MODIFIED:20260422T140948Z
UID:4129-1785340800-1785348000@pop-it-play.co.uk
SUMMARY:29th July 2026 -St Johns Primary  School Reception Meet-Up for September 2026 Starters 4:00-6:00
DESCRIPTION:
URL:https://pop-it-play.co.uk/event/29th-july-2026-st-johns-primary-school-reception-meet-up-for-september-2026-starters-400-600/
LOCATION:Pop It Play\, 31 Fore Street\, Cullompton\, Devon\, EX15 1JS\, United Kingdom
ORGANIZER;CN="Pop It Play":MAILTO:bookings@pop-it-play.co.uk
END:VEVENT
BEGIN:VEVENT
DTSTART;TZID=Europe/London:20260730T160000
DTEND;TZID=Europe/London:20260730T180000
DTSTAMP:20260422T230952
CREATED:20260422T142721Z
LAST-MODIFIED:20260422T143751Z
UID:4132-1785427200-1785434400@pop-it-play.co.uk
SUMMARY:30th July 2026 -Bickleigh-on-Exe Primary School Reception Meet-Up for September 2026 Starters 4:00-6:00
DESCRIPTION:
URL:https://pop-it-play.co.uk/event/30th-july-2026-bickleigh-on-exe-primary-school-reception-meet-up-for-september-2026-starters-400-600/
LOCATION:Pop It Play\, 31 Fore Street\, Cullompton\, Devon\, EX15 1JS\, United Kingdom
ORGANIZER;CN="Pop It Play":MAILTO:bookings@pop-it-play.co.uk
END:VEVENT
END:VCALENDAR